BEGIN:VCALENDAR
VERSION:2.0
PRODID:-//Harrisdale Primary School - ECPv5.0.2//NONSGML v1.0//EN
CALSCALE:GREGORIAN
METHOD:PUBLISH
X-WR-CALNAME:Harrisdale Primary School
X-ORIGINAL-URL:https://harrisdaleps.wa.edu.au
X-WR-CALDESC:Events for Harrisdale Primary School
BEGIN:VTIMEZONE
TZID:Australia/Perth
BEGIN:STANDARD
TZOFFSETFROM:+0800
TZOFFSETTO:+0800
TZNAME:AWST
DTSTART:20200101T000000
END:STANDARD
END:VTIMEZONE
BEGIN:VEVENT
DTSTART;TZID=Australia/Perth:20200305T083500
DTEND;TZID=Australia/Perth:20200305T093000
DTSTAMP:20200227T032736
CREATED:20200210T022838Z
LAST-MODIFIED:20200210T022859Z
UID:3957-1583397300-1583400600@harrisdaleps.wa.edu.au
SUMMARY:LA6 & LA7 Assembly
DESCRIPTION:
URL:https://harrisdaleps.wa.edu.au/event/la6-la7-assembly/
END:VEVENT
END:VCALENDAR