BEGIN:VCALENDAR
VERSION:2.0
PRODID:-//Harrisdale Primary School - ECPv5.0.2//NONSGML v1.0//EN
CALSCALE:GREGORIAN
METHOD:PUBLISH
X-WR-CALNAME:Harrisdale Primary School
X-ORIGINAL-URL:https://harrisdaleps.wa.edu.au
X-WR-CALDESC:Events for Harrisdale Primary School
BEGIN:VTIMEZONE
TZID:Australia/Perth
BEGIN:STANDARD
TZOFFSETFROM:+0800
TZOFFSETTO:+0800
TZNAME:AWST
DTSTART:20200101T000000
END:STANDARD
END:VTIMEZONE
BEGIN:VEVENT
DTSTART;TZID=Australia/Perth:20200312T083500
DTEND;TZID=Australia/Perth:20200312T093000
DTSTAMP:20200227T032813
CREATED:20200210T022331Z
LAST-MODIFIED:20200210T022331Z
UID:3949-1584002100-1584005400@harrisdaleps.wa.edu.au
SUMMARY:EC2 & EC4 Assembly
DESCRIPTION:
URL:https://harrisdaleps.wa.edu.au/event/ec2-ec4-assembly/
END:VEVENT
END:VCALENDAR